BEGIN:VCALENDAR
PRODID:-//eluceo/ical//2.0/EN
VERSION:2.0
CALSCALE:GREGORIAN
BEGIN:VEVENT
UID:7bea9e20e89137f946b1cc5c03ccafba
DTSTAMP:20260421T125737Z
SUMMARY:Cinéma - Espoir en Tête
DESCRIPTION:Contremarques en vente auprès des Rotariens et au Centre Cultu
 rel Aragon (15 jours avant la séance) :\n\nPrix de la contremarque compr
 enant :\n- billet de cinéma pour la séance en avant-première\n- don à 
 la Fédération de Recherche sur le Cerveau\nConférencier(s): Avant premi
 ère du nouveau film de Disney :\nCENDRILLON\n\nPublic : + de 10 ans
URL:https://oyonnax-plastics-vallee.rotary1710.org/fr/agenda/show/2580
DTSTART;TZID=Europe/Zurich:20150317T200000
DTEND;TZID=Europe/Zurich:20150317T220000
LOCATION:Cinéma Oyonnax
CATEGORIES:Rotary
END:VEVENT
BEGIN:VTIMEZONE
TZID:Europe/Zurich
BEGIN:STANDARD
DTSTART:20150317T200000
TZNAME:CET
TZOFFSETTO:+0100
TZOFFSETFROM:+0100
END:STANDARD
END:VTIMEZONE
END:VCALENDAR
